BEGIN:VCALENDAR
VERSION:2.0
PRODID:-//Tukios.com/
BEGIN:VEVENT
UID:dea5316f-1a52-4f79-8a98-0bfe8e7bc6bb@www.alliancefuneralhome.net
DTSTAMP:20260421T210654Z
DTSTART:20260424T200000Z
DTEND:20260424T220000Z
SUMMARY:Visitation
DESCRIPTION:
URL:https://www.alliancefuneralhome.net/obituaries/javier-lemus
LOCATION: 3413 Hillcrest Dr  Erlanger KY 41018
GEO:39.0117118;-84.5946994
END:VEVENT
END:VCALENDAR