BEGIN:VCALENDAR
VERSION:2.0
PRODID:-//Tukios.com/
BEGIN:VEVENT
UID:327baf4f-6322-4051-a7a9-cd3c4c92723f@www.alliancefuneralhome.net
DTSTAMP:20260421T211244Z
DTSTART:20260424T220000Z
DTEND:20260424T230000Z
SUMMARY:Funeral Service
DESCRIPTION:
URL:https://www.alliancefuneralhome.net/obituaries/javier-lemus
LOCATION: 3413 Hillcrest Dr  Erlanger KY 41018
GEO:39.0117118;-84.5946994
END:VEVENT
END:VCALENDAR