BEGIN:VCALENDAR
VERSION:2.0
PRODID:-//Tukios.com/
BEGIN:VEVENT
UID:fb191f7f-d2d3-467c-b4dd-7b8026b65b8f@www.alliancefuneralhome.net
DTSTAMP:20260421T210438Z
DTSTART:20260425T140000Z
DTEND:20260425T150000Z
SUMMARY:Interment
DESCRIPTION:
URL:https://www.alliancefuneralhome.net/obituaries/javier-lemus
LOCATION: 2512 Burlington Pike  Burlington KY 41005
GEO:39.0264756;-84.7145874
END:VEVENT
END:VCALENDAR